BEGIN:VCALENDAR
VERSION:2.0
PRODID:-//Visit Rijeka - ECPv6.15.11//NONSGML v1.0//EN
CALSCALE:GREGORIAN
METHOD:PUBLISH
X-ORIGINAL-URL:https://visitrijeka.hr
X-WR-CALDESC:Događaji za Visit Rijeka
REFRESH-INTERVAL;VALUE=DURATION:PT1H
X-Robots-Tag:noindex
X-PUBLISHED-TTL:PT1H
BEGIN:VTIMEZONE
TZID:Europe/Zagreb
BEGIN:DAYLIGHT
TZOFFSETFROM:+0100
TZOFFSETTO:+0200
TZNAME:CEST
DTSTART:20240331T010000
END:DAYLIGHT
BEGIN:STANDARD
TZOFFSETFROM:+0200
TZOFFSETTO:+0100
TZNAME:CET
DTSTART:20241027T010000
END:STANDARD
BEGIN:DAYLIGHT
TZOFFSETFROM:+0100
TZOFFSETTO:+0200
TZNAME:CEST
DTSTART:20250330T010000
END:DAYLIGHT
BEGIN:STANDARD
TZOFFSETFROM:+0200
TZOFFSETTO:+0100
TZNAME:CET
DTSTART:20251026T010000
END:STANDARD
BEGIN:DAYLIGHT
TZOFFSETFROM:+0100
TZOFFSETTO:+0200
TZNAME:CEST
DTSTART:20260329T010000
END:DAYLIGHT
BEGIN:STANDARD
TZOFFSETFROM:+0200
TZOFFSETTO:+0100
TZNAME:CET
DTSTART:20261025T010000
END:STANDARD
END:VTIMEZONE
BEGIN:VEVENT
DTSTART;TZID=Europe/Zagreb:20250926T200000
DTEND;TZID=Europe/Zagreb:20250926T200000
DTSTAMP:20260419T171525
CREATED:20250826T200000Z
LAST-MODIFIED:20250910T122552Z
UID:10004840-1758916800-1758916800@visitrijeka.hr
SUMMARY:REFACE [Les Idoles Collective]
DESCRIPTION:REFACE je performativni projekt za dva izvođača i jednog glazbenika. Koreografiramo hipnotički striptiz lica u kojem\, koristeći materijale i perike\, polako i podmuklo transformiramo svoje položaje i lica. Tražimo ekonomičnost i u umjetnosti i u gesti. Ponavljajući i ponovno koristeći fizičke i plastične materijale dok se ne istroše\, postupno razgrađujemo i iskrivljujemo prethodno uspostavljene slike. Privučeni neobičnim\, hlapljivim identitetima Bergmanovih i Lynchovih filmova\, te fotografskim radom Cindy Sherman i Nadie Lee\, REFACE se koristi plastičnim\, filmskim izražavanjem.
URL:https://visitrijeka.hr/event/reface-les-idoles-collective-2/
LOCATION:Strossmayerova 1\, Strossmayerova 1
CATEGORIES:Kultura i umjetnost
ATTACH;FMTTYPE=image/jpeg:https://visitrijeka.hr/wp-content/uploads/2025/09/reface.jpg
END:VEVENT
BEGIN:VEVENT
DTSTART;TZID=Europe/Zagreb:20250924T190000
DTEND;TZID=Europe/Zagreb:20250924T190000
DTSTAMP:20260419T171525
CREATED:20250904T200000Z
LAST-MODIFIED:20250910T121523Z
UID:10004811-1758740400-1758740400@visitrijeka.hr
SUMMARY:Brdo kulture: ARTissue: Lineage [Kristina Paunovski]
DESCRIPTION:HKD i ove godine sudjeluje u programu Brdo kulture koje organizira Pomorski i povijesni muzej Hrvatskog primorja Rijeka i to s predstavom snimljenom u tehnici virtualne stvarnosti (VR) koja će se moći pogledati u novom paviljonu InnovaLab na riječkom Kampusu. \nArt Issue: Lineage predstavlja inovativan plesni projekt koji istražuje granice između klupskih i uličnih plesnih stilova\, te suvremenog plesa. Ovaj autorski rad\, vođen istraživanjem na području plesa i raznih umjetnosti\, ima ambiciju kombinirati suvremene plesne alate i stilove poput hip hopa i housea\, donoseći ih na suvremenu plesnu scenu grada Rijeke.
URL:https://visitrijeka.hr/event/brdo-kulture-artissue-lineage-kristina-paunovski-2/
LOCATION:Strossmayerova 1\, Strossmayerova 1
CATEGORIES:Kultura i umjetnost
ATTACH;FMTTYPE=image/jpeg:https://visitrijeka.hr/wp-content/uploads/2025/09/Brdo-kulture_ARTIssue.jpg
END:VEVENT
BEGIN:VEVENT
DTSTART;TZID=Europe/Zagreb:20250923T200000
DTEND;TZID=Europe/Zagreb:20250923T200000
DTSTAMP:20260419T171526
CREATED:20250904T200000Z
LAST-MODIFIED:20250910T120555Z
UID:10004810-1758657600-1758657600@visitrijeka.hr
SUMMARY:Čekaonica [UO Arterija]
DESCRIPTION:Čekaonica je koreodramska konstrukcija jednog unutarnjeg pejzaža\, izvezenog od niti nemira i nevidljivih rana\, konstrukcija satkana od trenutka tihe erozije bića. Erozije koja nastaje kad se svakodnevno ponavljaš u ulozi sebe\, dok sve u tebi vrišti da više ne zna kako se ta uloga igra. Čekaonica nije priča\, nego stanje. Stanje između daha i odgovora\, između funkcionalnog tijela i slomljene misli\, između svakodnevnog Dobro sam i istine koju više ne znaš izreći.
URL:https://visitrijeka.hr/event/cekaonica-uo-arterija-2/
LOCATION:Strossmayerova 1\, Strossmayerova 1
CATEGORIES:Kultura i umjetnost
ATTACH;FMTTYPE=image/jpeg:https://visitrijeka.hr/wp-content/uploads/2025/09/cekaonica.jpg
END:VEVENT
BEGIN:VEVENT
DTSTART;TZID=Europe/Zagreb:20250917T170000
DTEND;TZID=Europe/Zagreb:20250917T170000
DTSTAMP:20260419T171526
CREATED:20250904T200000Z
LAST-MODIFIED:20250910T114506Z
UID:10004804-1758128400-1758128400@visitrijeka.hr
SUMMARY:Art Explora Festival: Body Monologues [Anastasia Valsamaki]
DESCRIPTION:U sklopu programa Art Explora HKD sudjeluje s prikazivanjem plesne predstave Body Monologue snimljenoj u tehnici virtualne stvarnosti (VR) u impresivnom napuštenom kamenolomu u blizini Atene.
URL:https://visitrijeka.hr/event/art-explora-festival-body-monologues-anastasia-valsamaki-2/
LOCATION:Strossmayerova 1\, Strossmayerova 1
CATEGORIES:Kultura i umjetnost
ATTACH;FMTTYPE=image/jpeg:https://visitrijeka.hr/wp-content/uploads/2025/09/ArtExplora_BodyMonologue.jpg
END:VEVENT
BEGIN:VEVENT
DTSTART;TZID=Europe/Zagreb:20250916T200000
DTEND;TZID=Europe/Zagreb:20250916T200000
DTSTAMP:20260419T171526
CREATED:20250820T200000Z
LAST-MODIFIED:20250910T112938Z
UID:10004839-1758052800-1758052800@visitrijeka.hr
SUMMARY:Jednočinka / One Act [ZKM / 21:21]
DESCRIPTION:Novi projekt Petre Hrašćanec zamišljen je kao duet za plesačicu i glumca. Riječ je o kolaborativnom radu temeljenom na  suradnji Petre Hrašćanec i Roka Juričića koji dolaze iz različitih izvedbenih sredina i različitih umjetničkih područja.
URL:https://visitrijeka.hr/event/jednocinka-one-act-zkm-2121-2/
LOCATION:Strossmayerova 1\, Strossmayerova 1
CATEGORIES:Kultura i umjetnost
ATTACH;FMTTYPE=image/jpeg:https://visitrijeka.hr/wp-content/uploads/2025/09/jednocinka.jpg
END:VEVENT
BEGIN:VEVENT
DTSTART;TZID=Europe/Zagreb:20250913T193000
DTEND;TZID=Europe/Zagreb:20250913T193000
DTSTAMP:20260419T171526
CREATED:20250907T200000Z
LAST-MODIFIED:20250910T111526Z
UID:10004838-1757791800-1757791800@visitrijeka.hr
SUMMARY:Melodije nade [humanitarni koncert Udruge Terra]
DESCRIPTION:Nastupaju Riječki barokni ansambl\, Ženska klapa Kastav\, Muška klapa Kastav\, Tatyana Tereshina i Marijan Rugani\, Ana Majdak Fak i Lorena Krstić\, Robert Kolar\, Ivanica Vunić\, Žažara\, Marin Tuhtan\, Ena Lešić Ivanović\, Kristina Kolar\, Sergej Kiselev\, Goranka Tuhtan\, Ivana Miletić\, Karla Mazzaroli\, Lorena Krstić i Ivanica Vunić\, Morana Pleše Petruševski\, Petruš Petruševski\, Kristina Kolar i Robert Kolar\, Klapa Luka\, obitelj Veljak i prijatelji\, Sergej Božić\, Vivien Galletta i Voljen Grbac.
URL:https://visitrijeka.hr/event/melodije-nade-humanitarni-koncert-udruge-terra-2/
LOCATION:Strossmayerova 1\, Strossmayerova 1
CATEGORIES:Kultura i umjetnost
ATTACH;FMTTYPE=image/jpeg:https://visitrijeka.hr/wp-content/uploads/2025/09/udruga-terra.jpg
END:VEVENT
BEGIN:VEVENT
DTSTART;TZID=Europe/Zagreb:20250911T180000
DTEND;TZID=Europe/Zagreb:20250911T180000
DTSTAMP:20260419T171526
CREATED:20250828T200000Z
LAST-MODIFIED:20250910T081719Z
UID:10004806-1757613600-1757613600@visitrijeka.hr
SUMMARY:Vodstvo izložbom Yugo.Logo
DESCRIPTION:U četvrtak 11.9. u 18 sati Galerija Kortil organizira stručno vodstvo izložbom Yugo.Logo – Grafička identifikacija u Jugoslaviji autora Ognjena Rankovića i Antonia Karače. Posjetitelje će izložbom provesti voditeljica Galerije Kortil Ivana Lučić.
URL:https://visitrijeka.hr/event/vodstvo-izlozbom-yugo-logo/
LOCATION:Strossmayerova 1\, Strossmayerova 1
CATEGORIES:Kultura i umjetnost
ATTACH;FMTTYPE=image/jpeg:https://visitrijeka.hr/wp-content/uploads/2025/09/Yugo_vodstvo2.jpg
END:VEVENT
END:VCALENDAR