BEGIN:VCALENDAR
VERSION:2.0
PRODID:-//Visit Rijeka - ECPv6.15.11//NONSGML v1.0//EN
CALSCALE:GREGORIAN
METHOD:PUBLISH
X-WR-CALNAME:Visit Rijeka
X-ORIGINAL-URL:https://visitrijeka.hr
X-WR-CALDESC:Događaji za Visit Rijeka
REFRESH-INTERVAL;VALUE=DURATION:PT1H
X-Robots-Tag:noindex
X-PUBLISHED-TTL:PT1H
BEGIN:VTIMEZONE
TZID:Europe/Zagreb
BEGIN:DAYLIGHT
TZOFFSETFROM:+0100
TZOFFSETTO:+0200
TZNAME:CEST
DTSTART:20240331T010000
END:DAYLIGHT
BEGIN:STANDARD
TZOFFSETFROM:+0200
TZOFFSETTO:+0100
TZNAME:CET
DTSTART:20241027T010000
END:STANDARD
BEGIN:DAYLIGHT
TZOFFSETFROM:+0100
TZOFFSETTO:+0200
TZNAME:CEST
DTSTART:20250330T010000
END:DAYLIGHT
BEGIN:STANDARD
TZOFFSETFROM:+0200
TZOFFSETTO:+0100
TZNAME:CET
DTSTART:20251026T010000
END:STANDARD
BEGIN:DAYLIGHT
TZOFFSETFROM:+0100
TZOFFSETTO:+0200
TZNAME:CEST
DTSTART:20260329T010000
END:DAYLIGHT
BEGIN:STANDARD
TZOFFSETFROM:+0200
TZOFFSETTO:+0100
TZNAME:CET
DTSTART:20261025T010000
END:STANDARD
END:VTIMEZONE
BEGIN:VEVENT
DTSTART;TZID=Europe/Zagreb:20251114T170000
DTEND;TZID=Europe/Zagreb:20251114T170000
DTSTAMP:20260419T152810
CREATED:20250908T200000Z
LAST-MODIFIED:20250930T075450Z
UID:10004835-1763139600-1763139600@visitrijeka.hr
SUMMARY:TranziT: Poetike pokreta [Francesco Scavetta]
DESCRIPTION:Radi se o slušanju. O isprekidanom tijeku davanja i primanja. O iznenadnom prekidu jednog niza početaka; o dopuštanju nedovršenosti\, neostvarenosti. O aktu nestajanja: jer svi tražimo nešto što treba biti shvaćeno\, inače će to zauvijek biti izgubljeno. O stalnoj dijalektici između trajanja i nepovratnosti. Osjećaju gubitka i proizvodnji odsutnosti. O započinjanju razgovora i odlučivanju da umjesto toga ne kažemo ništa. Nešto poput brisanja\, efemernosti\, pa čak i ranjivosti same performativnosti. \nAutor će sa zainteresiranom publikom podijeliti neke elemente svog umjetničkog istraživanja u radu na predstavi koju će pogledati a koja vuče inspiraciju iz projekata Slučajno izgubljeni\, A ipak te Kućni film.
URL:https://visitrijeka.hr/event/tranzit-poetike-pokreta-francesco-scavetta/
LOCATION:Strossmayerova 1\, Strossmayerova 1
ATTACH;FMTTYPE=image/jpeg:https://visitrijeka.hr/wp-content/uploads/2025/09/tranzit2025.jpg
END:VEVENT
BEGIN:VEVENT
DTSTART;TZID=Europe/Zagreb:20251113T180000
DTEND;TZID=Europe/Zagreb:20251113T180000
DTSTAMP:20260419T152810
CREATED:20251109T220000Z
LAST-MODIFIED:20251109T220000Z
UID:10005206-1763056800-1763056800@visitrijeka.hr
SUMMARY:Vodstvo izložbom Mirluh atmosfere
DESCRIPTION:U četvrtak 13. studenog u 18 sati Galerija Kortil organizira stručno vodstvo izložbom Mirluh atmosfere\, a posjetitelje će izložbom provesti autor Dominik Višnjić i kustosica izložbe Dora Križnik.
URL:https://visitrijeka.hr/event/vodstvo-izlozbom-mirluh-atmosfere/
LOCATION:Strossmayerova 1\, Strossmayerova 1
ATTACH;FMTTYPE=image/jpeg:https://visitrijeka.hr/wp-content/uploads/2025/11/vodstvo_mirluh.jpg
END:VEVENT
BEGIN:VEVENT
DTSTART;TZID=Europe/Zagreb:20251112T200000
DTEND;TZID=Europe/Zagreb:20251112T200000
DTSTAMP:20260419T152810
CREATED:20251019T200000Z
LAST-MODIFIED:20251019T200000Z
UID:10005080-1762977600-1762977600@visitrijeka.hr
SUMMARY:Plešemo za Kate
DESCRIPTION:Nastupaju: Osnovna škola za klasični balet i suvremeni ples pri OŠ Vežica\, Plesna grupa Magija\, Srednja plesna škola za klasični balet i suvremeni ples\, Plesni centar K2K\, Plesna grupa Flame\, Kristina Paunovski\, Ivana Peranić\, Toni Flego… \nGlazbeni dio u atriju HKD-a: Marinada\nSva sredstva prikupljena od donacija namijenjena su pokrivanju troškova rehabilitacije plesne umjetnice Kate Foley. \nPreporučena donacija €15-20. \nFoto: Kristijan Vučković
URL:https://visitrijeka.hr/event/plesemo-za-kate/
LOCATION:Strossmayerova 1\, Strossmayerova 1
ATTACH;FMTTYPE=image/jpeg:https://visitrijeka.hr/wp-content/uploads/2025/10/kate.jpg
END:VEVENT
BEGIN:VEVENT
DTSTART;TZID=Europe/Zagreb:20251031T193000
DTEND;TZID=Europe/Zagreb:20251031T193000
DTSTAMP:20260419T152810
CREATED:20251015T200000Z
LAST-MODIFIED:20251015T200000Z
UID:10005079-1761939000-1761939000@visitrijeka.hr
SUMMARY:Put oko svijeta [Dramski stuudio Pontes]
DESCRIPTION:Više informacija uskoro…
URL:https://visitrijeka.hr/event/put-oko-svijeta-dramski-stuudio-pontes/
LOCATION:Strossmayerova 1\, Strossmayerova 1
ATTACH;FMTTYPE=image/jpeg:https://visitrijeka.hr/wp-content/uploads/2025/10/pontes.jpg
END:VEVENT
BEGIN:VEVENT
DTSTART;TZID=Europe/Zagreb:20251030T000000
DTEND;TZID=Europe/Zagreb:20251115T000000
DTSTAMP:20260419T152810
CREATED:20250922T200000Z
LAST-MODIFIED:20250930T093828Z
UID:10004963-1761782400-1763164800@visitrijeka.hr
SUMMARY:Mirluh atmosfere [Dominik Višnjić]
DESCRIPTION:Sedmo izdanje projekta A4 u galeriji Kortil predstavlja rad mladog umjetnika Dominika Višnjića uz kustoski koncept Dore Križnik\, pod nazivom „Mirluh atmosfere“. Dominik Višnjić četirima instalacijama predstavlja rezultat svog umjetničkog istraživanja u mediju grafike – vlastitu inačicu tehnike kolagrafije. U Spilji\, Faldama\, Vrtu i Tkanju on holističkim pristupom povezuje tradiciju i identitet s umjetnošću (netoksične) grafike. Inspiriran vlastitim porijeklom i obiteljskom tradicijom tekstilnog rukotvorstva\, Višnjić elemente tog manualnog rada inkorporira u svoje umjetničko istraživanje\, oživljavajući tradicijske vrednote u novim grafičkim formama kroz različite medije. \nRadno vrijeme Galerije: ponedjeljak – petak od 10 do 13 i od 17 do 20 sati\, subotom od 10 do 13 sati.
URL:https://visitrijeka.hr/event/mirluh-atmosfere-dominik-visnjic/
LOCATION:Strossmayerova 1\, Strossmayerova 1
CATEGORIES:Kultura i umjetnost
ATTACH;FMTTYPE=image/jpeg:https://visitrijeka.hr/wp-content/uploads/2025/09/Mirluh-atmosfere.jpg
END:VEVENT
BEGIN:VEVENT
DTSTART;TZID=Europe/Zagreb:20251029T180000
DTEND;TZID=Europe/Zagreb:20251029T200000
DTSTAMP:20260419T152810
CREATED:20250924T200000Z
LAST-MODIFIED:20251020T065953Z
UID:10004927-1761760800-1761768000@visitrijeka.hr
SUMMARY:Astroklikeri [Sandra Silađev]
DESCRIPTION:Đurđa Stojković\, astrologinja koja je slavu stekla na društvenim mrežama\, poznata je po intrigantnim i duhovitim astrološkim analizama. Svoje površno znanje iz astrologije Đurđa tretira\, prije svega\, kao unosan biznis i zabavu ali\, kroz komunikaciju sa raznim ljudima\, brojem lajkova i pohvala na mrežama\, Đurđa nekako uspijeva da se izbori sa usamljenošću i menopauzom. Život bez djece\, partnera i iskrenih prijatelja pojačava njenu bliskost sa već starom\, načetom majkom koja ne prestaje Đurđu da tretira kao djevojčicu u pubertetu\, što stvara dodatni pakao u Đurđinoj\, inače pokolebanoj\, svijesti o sebi. Depresivnu stvarnost svakodnevno zamjenjuje romantizirano digitalno postojanje ove novonastale astro-zvijezde.
URL:https://visitrijeka.hr/event/astroklikeri-sandra-siladev/
LOCATION:Strossmayerova 1\, Strossmayerova 1
CATEGORIES:Kultura i umjetnost,Zabava
ATTACH;FMTTYPE=image/jpeg:https://visitrijeka.hr/wp-content/uploads/2025/09/astroklikeri.jpg
END:VEVENT
BEGIN:VEVENT
DTSTART;TZID=Europe/Zagreb:20251021T190000
DTEND;TZID=Europe/Zagreb:20251021T190000
DTSTAMP:20260419T152810
CREATED:20250904T200000Z
LAST-MODIFIED:20251007T100015Z
UID:10004809-1761073200-1761073200@visitrijeka.hr
SUMMARY:Pjesmom za Nadu: Tina Vukov\, Nikolina Tomljanović\, Antonio Krištofić\, Ema Kresina
DESCRIPTION:Na donatorskom koncertu Pjesmom za Nadu nastupaju Antonio Krištofić\, Tina Vukov\, Nikolina Tomljanović i Ema Kresina. \nPrikupljeni novac namijenjen je za rad Udruge žena operiranih dojki Nada – Rijeka. \nTrajanje programa: 90 minuta. \nUlaznice po cijeni od €20 moguće je kupiti online na mojekarte.hr\, u Dallas Music Shopu\, Foto Reviji te na benzinskim postajama Petrol / Crodux uz naknadu od dodatnih €0\,95 za obradu transakcije. Ulaznice je moguće kupiti i na blagajni HKD-a bez dodatne naknade\, sat vremena prije početka programa.
URL:https://visitrijeka.hr/event/pjesmom-za-nadu-tina-vukov-nikolina-tomljanovic-antonio-kristofic-ema-kresina/
LOCATION:HKD na Sušaku\, Strossmayerova 1\, Rijeka\, 51000\, Croatia (Local Name: Hrvatska)
CATEGORIES:Kultura i umjetnost
ATTACH;FMTTYPE=image/jpeg:https://visitrijeka.hr/wp-content/uploads/2025/09/Pjesmom-za-Nadu-HKD.jpg
END:VEVENT
BEGIN:VEVENT
DTSTART;TZID=Europe/Zagreb:20251011T180000
DTEND;TZID=Europe/Zagreb:20251011T180000
DTSTAMP:20260419T152810
CREATED:20250923T200000Z
LAST-MODIFIED:20250930T073836Z
UID:10004944-1760205600-1760205600@visitrijeka.hr
SUMMARY:3. smotra folklora i sevdaha [KUD Sevdah]
DESCRIPTION:U programu nastupaju:\nNacionalna zajednica Bošnjaka istre – zbor Istarske Gondže\nKulturno umjetničko društvo Sevdah rijeka\nBošnjačko kulturno umjetničko društvo Nur Sisak\nKulturno udruženje Bošnjaka i prijatelja BiH – ženski pjevački zbor Bulbuli Zagreb\nKulturno umjetničko društvo Bosna Istarske županije – Pula\nZulfo Bota – Sarajevo\nKulturno umjetničko društvo Lanterna Kraljevica\nKUD Kršanski jiljani Kršan
URL:https://visitrijeka.hr/event/3-smotra-folklora-i-sevdaha-kud-sevdah/
LOCATION:Strossmayerova 1\, Strossmayerova 1
ATTACH;FMTTYPE=image/jpeg:https://visitrijeka.hr/wp-content/uploads/2025/09/sevdah.jpg
END:VEVENT
BEGIN:VEVENT
DTSTART;TZID=Europe/Zagreb:20251010T200000
DTEND;TZID=Europe/Zagreb:20251010T200000
DTSTAMP:20260419T152810
CREATED:20250916T200000Z
LAST-MODIFIED:20250930T073706Z
UID:10004942-1760126400-1760126400@visitrijeka.hr
SUMMARY:Frajle – Moje duše duša
DESCRIPTION:Pripremite se za koncert koji će vas nasmijati\, rasplakati i natjerati da pjevate iz sveg glasa! Frajle\, prave ambasadorice dobre zabave\, dolaze u Rijeku u okviru turneje Moje duše duša 2025. Njihova glazba osvaja publiku širom regije\, a svaki nastup pretvara se u emotivno i nezaboravno iskustvo. Poslije više koncerata u Lisinskom\, stižu i u Rijeku.
URL:https://visitrijeka.hr/event/frajle-moje-duse-dusa/
LOCATION:Strossmayerova 1\, Strossmayerova 1
ATTACH;FMTTYPE=image/jpeg:https://visitrijeka.hr/wp-content/uploads/2025/09/frajle.jpg
END:VEVENT
BEGIN:VEVENT
DTSTART;TZID=Europe/Zagreb:20251006T200000
DTEND;TZID=Europe/Zagreb:20251006T200000
DTSTAMP:20260419T152810
CREATED:20250907T200000Z
LAST-MODIFIED:20250910T075308Z
UID:10004807-1759780800-1759780800@visitrijeka.hr
SUMMARY:Parazitska posla [Kazalište Moruzgva]
DESCRIPTION:Kazalište Moruzgva donosi pretpremijernu izvedbu svoje nove predstave Parazitska posla – britke komedije o tome što se stvarno događa kad se obitelj opet nađe pod istim krovom. Povratak starije kćeri iz Njemačke trebao je biti kratak posjet\, ali se dnevni boravak ubrzo pretvara u ring u kojem se izmjenjuju optužbe\, pasivna agresija\, sendviči\, kriptovalute i jedno vrlo upitno ljubavno partnerstvo.
URL:https://visitrijeka.hr/event/parazitska-posla-kazaliste-moruzgva/
LOCATION:Strossmayerova 1\, Strossmayerova 1
CATEGORIES:Kongresi i sajmovi
ATTACH;FMTTYPE=image/jpeg:https://visitrijeka.hr/wp-content/uploads/2025/09/parazitska-posla.jpg
END:VEVENT
BEGIN:VEVENT
DTSTART;TZID=Europe/Zagreb:20250929T200000
DTEND;TZID=Europe/Zagreb:20250929T200000
DTSTAMP:20260419T152811
CREATED:20250820T200000Z
LAST-MODIFIED:20250910T124507Z
UID:10004802-1759176000-1759176000@visitrijeka.hr
SUMMARY:Utopija danas [Bitef Teatar]
DESCRIPTION:Utopija danas je glazbena predstava\, koja uključuje elemente performansa\, video arta i dokumentarno-igranog filma.
URL:https://visitrijeka.hr/event/utopija-danas-bitef-teatar-2/
LOCATION:Strossmayerova 1\, Strossmayerova 1
CATEGORIES:Kultura i umjetnost
ATTACH;FMTTYPE=image/gif:https://visitrijeka.hr/wp-content/uploads/2025/09/utopija-danas.gif
END:VEVENT
BEGIN:VEVENT
DTSTART;TZID=Europe/Zagreb:20250927T200000
DTEND;TZID=Europe/Zagreb:20250927T200000
DTSTAMP:20260419T152811
CREATED:20250824T200000Z
LAST-MODIFIED:20250910T123127Z
UID:10004837-1759003200-1759003200@visitrijeka.hr
SUMMARY:Ženski razgovori [Svetlana Ceca Bojković\, Vesna Čipčić i Milan Caci Mihailović]
DESCRIPTION:Tri velika glumačka imena – Svetlana Ceca Bojković\, Vesna Čipčić i Milan Caci Mihailović – premijerno će u Rijeci 27.9. izvesti kultnu komediju Ženski razgovori\, nastalu po tekstovima velikog Duška Radovića. \nOvo je predstava o muškarcima viđenima očima žena: satirična i duhovita\, dirljivo stvarna\, s puno smijeha\, ironije i istine. Govoreći o raznim stereotipima u vezi s muško-ženskim odnosima\, predstava otkriva kako izgleda muški svijet iz ženske perspektive\, analizirajući brojne situacije iz svakodnevnog života.
URL:https://visitrijeka.hr/event/zenski-razgovori-svetlana-ceca-bojkovic-vesna-cipcic-i-milan-caci-mihailovic-2/
LOCATION:Strossmayerova 1\, Strossmayerova 1
CATEGORIES:Kultura i umjetnost
ATTACH;FMTTYPE=image/jpeg:https://visitrijeka.hr/wp-content/uploads/2025/09/zenski-razgovori.jpg
END:VEVENT
BEGIN:VEVENT
DTSTART;TZID=Europe/Zagreb:20250926T200000
DTEND;TZID=Europe/Zagreb:20250926T200000
DTSTAMP:20260419T152811
CREATED:20250826T200000Z
LAST-MODIFIED:20250910T122552Z
UID:10004840-1758916800-1758916800@visitrijeka.hr
SUMMARY:REFACE [Les Idoles Collective]
DESCRIPTION:REFACE je performativni projekt za dva izvođača i jednog glazbenika. Koreografiramo hipnotički striptiz lica u kojem\, koristeći materijale i perike\, polako i podmuklo transformiramo svoje položaje i lica. Tražimo ekonomičnost i u umjetnosti i u gesti. Ponavljajući i ponovno koristeći fizičke i plastične materijale dok se ne istroše\, postupno razgrađujemo i iskrivljujemo prethodno uspostavljene slike. Privučeni neobičnim\, hlapljivim identitetima Bergmanovih i Lynchovih filmova\, te fotografskim radom Cindy Sherman i Nadie Lee\, REFACE se koristi plastičnim\, filmskim izražavanjem.
URL:https://visitrijeka.hr/event/reface-les-idoles-collective-2/
LOCATION:Strossmayerova 1\, Strossmayerova 1
CATEGORIES:Kultura i umjetnost
ATTACH;FMTTYPE=image/jpeg:https://visitrijeka.hr/wp-content/uploads/2025/09/reface.jpg
END:VEVENT
BEGIN:VEVENT
DTSTART;TZID=Europe/Zagreb:20250924T190000
DTEND;TZID=Europe/Zagreb:20250924T190000
DTSTAMP:20260419T152811
CREATED:20250904T200000Z
LAST-MODIFIED:20250910T121523Z
UID:10004811-1758740400-1758740400@visitrijeka.hr
SUMMARY:Brdo kulture: ARTissue: Lineage [Kristina Paunovski]
DESCRIPTION:HKD i ove godine sudjeluje u programu Brdo kulture koje organizira Pomorski i povijesni muzej Hrvatskog primorja Rijeka i to s predstavom snimljenom u tehnici virtualne stvarnosti (VR) koja će se moći pogledati u novom paviljonu InnovaLab na riječkom Kampusu. \nArt Issue: Lineage predstavlja inovativan plesni projekt koji istražuje granice između klupskih i uličnih plesnih stilova\, te suvremenog plesa. Ovaj autorski rad\, vođen istraživanjem na području plesa i raznih umjetnosti\, ima ambiciju kombinirati suvremene plesne alate i stilove poput hip hopa i housea\, donoseći ih na suvremenu plesnu scenu grada Rijeke.
URL:https://visitrijeka.hr/event/brdo-kulture-artissue-lineage-kristina-paunovski-2/
LOCATION:Strossmayerova 1\, Strossmayerova 1
CATEGORIES:Kultura i umjetnost
ATTACH;FMTTYPE=image/jpeg:https://visitrijeka.hr/wp-content/uploads/2025/09/Brdo-kulture_ARTIssue.jpg
END:VEVENT
BEGIN:VEVENT
DTSTART;TZID=Europe/Zagreb:20250923T200000
DTEND;TZID=Europe/Zagreb:20250923T200000
DTSTAMP:20260419T152811
CREATED:20250904T200000Z
LAST-MODIFIED:20250910T120555Z
UID:10004810-1758657600-1758657600@visitrijeka.hr
SUMMARY:Čekaonica [UO Arterija]
DESCRIPTION:Čekaonica je koreodramska konstrukcija jednog unutarnjeg pejzaža\, izvezenog od niti nemira i nevidljivih rana\, konstrukcija satkana od trenutka tihe erozije bića. Erozije koja nastaje kad se svakodnevno ponavljaš u ulozi sebe\, dok sve u tebi vrišti da više ne zna kako se ta uloga igra. Čekaonica nije priča\, nego stanje. Stanje između daha i odgovora\, između funkcionalnog tijela i slomljene misli\, između svakodnevnog Dobro sam i istine koju više ne znaš izreći.
URL:https://visitrijeka.hr/event/cekaonica-uo-arterija-2/
LOCATION:Strossmayerova 1\, Strossmayerova 1
CATEGORIES:Kultura i umjetnost
ATTACH;FMTTYPE=image/jpeg:https://visitrijeka.hr/wp-content/uploads/2025/09/cekaonica.jpg
END:VEVENT
BEGIN:VEVENT
DTSTART;TZID=Europe/Zagreb:20250917T170000
DTEND;TZID=Europe/Zagreb:20250917T170000
DTSTAMP:20260419T152811
CREATED:20250904T200000Z
LAST-MODIFIED:20250910T114506Z
UID:10004804-1758128400-1758128400@visitrijeka.hr
SUMMARY:Art Explora Festival: Body Monologues [Anastasia Valsamaki]
DESCRIPTION:U sklopu programa Art Explora HKD sudjeluje s prikazivanjem plesne predstave Body Monologue snimljenoj u tehnici virtualne stvarnosti (VR) u impresivnom napuštenom kamenolomu u blizini Atene.
URL:https://visitrijeka.hr/event/art-explora-festival-body-monologues-anastasia-valsamaki-2/
LOCATION:Strossmayerova 1\, Strossmayerova 1
CATEGORIES:Kultura i umjetnost
ATTACH;FMTTYPE=image/jpeg:https://visitrijeka.hr/wp-content/uploads/2025/09/ArtExplora_BodyMonologue.jpg
END:VEVENT
BEGIN:VEVENT
DTSTART;TZID=Europe/Zagreb:20250916T200000
DTEND;TZID=Europe/Zagreb:20250916T200000
DTSTAMP:20260419T152811
CREATED:20250820T200000Z
LAST-MODIFIED:20250910T112938Z
UID:10004839-1758052800-1758052800@visitrijeka.hr
SUMMARY:Jednočinka / One Act [ZKM / 21:21]
DESCRIPTION:Novi projekt Petre Hrašćanec zamišljen je kao duet za plesačicu i glumca. Riječ je o kolaborativnom radu temeljenom na  suradnji Petre Hrašćanec i Roka Juričića koji dolaze iz različitih izvedbenih sredina i različitih umjetničkih područja.
URL:https://visitrijeka.hr/event/jednocinka-one-act-zkm-2121-2/
LOCATION:Strossmayerova 1\, Strossmayerova 1
CATEGORIES:Kultura i umjetnost
ATTACH;FMTTYPE=image/jpeg:https://visitrijeka.hr/wp-content/uploads/2025/09/jednocinka.jpg
END:VEVENT
BEGIN:VEVENT
DTSTART;TZID=Europe/Zagreb:20250913T193000
DTEND;TZID=Europe/Zagreb:20250913T193000
DTSTAMP:20260419T152811
CREATED:20250907T200000Z
LAST-MODIFIED:20250910T111526Z
UID:10004838-1757791800-1757791800@visitrijeka.hr
SUMMARY:Melodije nade [humanitarni koncert Udruge Terra]
DESCRIPTION:Nastupaju Riječki barokni ansambl\, Ženska klapa Kastav\, Muška klapa Kastav\, Tatyana Tereshina i Marijan Rugani\, Ana Majdak Fak i Lorena Krstić\, Robert Kolar\, Ivanica Vunić\, Žažara\, Marin Tuhtan\, Ena Lešić Ivanović\, Kristina Kolar\, Sergej Kiselev\, Goranka Tuhtan\, Ivana Miletić\, Karla Mazzaroli\, Lorena Krstić i Ivanica Vunić\, Morana Pleše Petruševski\, Petruš Petruševski\, Kristina Kolar i Robert Kolar\, Klapa Luka\, obitelj Veljak i prijatelji\, Sergej Božić\, Vivien Galletta i Voljen Grbac.
URL:https://visitrijeka.hr/event/melodije-nade-humanitarni-koncert-udruge-terra-2/
LOCATION:Strossmayerova 1\, Strossmayerova 1
CATEGORIES:Kultura i umjetnost
ATTACH;FMTTYPE=image/jpeg:https://visitrijeka.hr/wp-content/uploads/2025/09/udruga-terra.jpg
END:VEVENT
BEGIN:VEVENT
DTSTART;TZID=Europe/Zagreb:20250911T180000
DTEND;TZID=Europe/Zagreb:20250911T180000
DTSTAMP:20260419T152811
CREATED:20250828T200000Z
LAST-MODIFIED:20250910T081719Z
UID:10004806-1757613600-1757613600@visitrijeka.hr
SUMMARY:Vodstvo izložbom Yugo.Logo
DESCRIPTION:U četvrtak 11.9. u 18 sati Galerija Kortil organizira stručno vodstvo izložbom Yugo.Logo – Grafička identifikacija u Jugoslaviji autora Ognjena Rankovića i Antonia Karače. Posjetitelje će izložbom provesti voditeljica Galerije Kortil Ivana Lučić.
URL:https://visitrijeka.hr/event/vodstvo-izlozbom-yugo-logo/
LOCATION:Strossmayerova 1\, Strossmayerova 1
CATEGORIES:Kultura i umjetnost
ATTACH;FMTTYPE=image/jpeg:https://visitrijeka.hr/wp-content/uploads/2025/09/Yugo_vodstvo2.jpg
END:VEVENT
END:VCALENDAR