BEGIN:VCALENDAR
VERSION:2.0
PRODID:-//Visit Rijeka - ECPv6.15.11//NONSGML v1.0//EN
CALSCALE:GREGORIAN
METHOD:PUBLISH
X-ORIGINAL-URL:https://visitrijeka.hr
X-WR-CALDESC:Događaji za Visit Rijeka
REFRESH-INTERVAL;VALUE=DURATION:PT1H
X-Robots-Tag:noindex
X-PUBLISHED-TTL:PT1H
BEGIN:VTIMEZONE
TZID:Europe/Zagreb
BEGIN:DAYLIGHT
TZOFFSETFROM:+0100
TZOFFSETTO:+0200
TZNAME:CEST
DTSTART:20220327T010000
END:DAYLIGHT
BEGIN:STANDARD
TZOFFSETFROM:+0200
TZOFFSETTO:+0100
TZNAME:CET
DTSTART:20221030T010000
END:STANDARD
BEGIN:DAYLIGHT
TZOFFSETFROM:+0100
TZOFFSETTO:+0200
TZNAME:CEST
DTSTART:20230326T010000
END:DAYLIGHT
BEGIN:STANDARD
TZOFFSETFROM:+0200
TZOFFSETTO:+0100
TZNAME:CET
DTSTART:20231029T010000
END:STANDARD
BEGIN:DAYLIGHT
TZOFFSETFROM:+0100
TZOFFSETTO:+0200
TZNAME:CEST
DTSTART:20240331T010000
END:DAYLIGHT
BEGIN:STANDARD
TZOFFSETFROM:+0200
TZOFFSETTO:+0100
TZNAME:CET
DTSTART:20241027T010000
END:STANDARD
BEGIN:DAYLIGHT
TZOFFSETFROM:+0100
TZOFFSETTO:+0200
TZNAME:CEST
DTSTART:20250330T010000
END:DAYLIGHT
BEGIN:STANDARD
TZOFFSETFROM:+0200
TZOFFSETTO:+0100
TZNAME:CET
DTSTART:20251026T010000
END:STANDARD
END:VTIMEZONE
BEGIN:VEVENT
DTSTART;TZID=Europe/Zagreb:20240214T190000
DTEND;TZID=Europe/Zagreb:20240214T190000
DTSTAMP:20260423T121857
CREATED:20231228T115814Z
LAST-MODIFIED:20240115T114816Z
UID:10000765-1707937200-1707937200@visitrijeka.hr
SUMMARY:Paljenje pusta
DESCRIPTION:
URL:https://visitrijeka.hr/event/pusna-sreda-2/
LOCATION:Zamet\, Ul. Bože Vidasa\, Rijeka\, 51000
CATEGORIES:Karneval
ATTACH;FMTTYPE=image/png:https://visitrijeka.hr/wp-content/uploads/2023/12/RK-narancasti.png
END:VEVENT
BEGIN:VEVENT
DTSTART;TZID=Europe/Zagreb:20240204T160000
DTEND;TZID=Europe/Zagreb:20240204T160000
DTSTAMP:20260423T121857
CREATED:20231228T105637Z
LAST-MODIFIED:20240115T114258Z
UID:10000749-1707062400-1707062400@visitrijeka.hr
SUMMARY:Dječja reduta Zamet
DESCRIPTION:
URL:https://visitrijeka.hr/event/djecja-reduta-zamet/
LOCATION:Zamet\, Ul. Bože Vidasa\, Rijeka\, 51000
CATEGORIES:Karneval
ATTACH;FMTTYPE=image/png:https://visitrijeka.hr/wp-content/uploads/2023/12/RK-narancasti.png
END:VEVENT
BEGIN:VEVENT
DTSTART;TZID=Europe/Zagreb:20240117T190000
DTEND;TZID=Europe/Zagreb:20240117T190000
DTSTAMP:20260423T121857
CREATED:20231228T101358Z
LAST-MODIFIED:20240111T084255Z
UID:10000734-1705518000-1705518000@visitrijeka.hr
SUMMARY:Antonja
DESCRIPTION:
URL:https://visitrijeka.hr/event/antonja-2/
LOCATION:Zamet\, Ul. Bože Vidasa\, Rijeka\, 51000
CATEGORIES:Karneval
ATTACH;FMTTYPE=image/png:https://visitrijeka.hr/wp-content/uploads/2023/12/RK-narancasti.png
END:VEVENT
BEGIN:VEVENT
DTSTART;VALUE=DATE:20230617
DTEND;VALUE=DATE:20230619
DTSTAMP:20260423T121857
CREATED:20230612T100735Z
LAST-MODIFIED:20230614T080515Z
UID:10000044-1686960000-1687132799@visitrijeka.hr
SUMMARY:Pozdrav sa Zameta! - Veliki kvartovski festival
DESCRIPTION:Ovaj vikend\, 17. i 18. lipnja\, provedite na nesvakidašnjem izletu u vlastitom gradu\, istražujući Zamet kroz bogat i raznovrstan program \nPravi mali grad u gradu\nZamet ima pjacu. Brodokomerc. Poštu. Knjižnicu. Igrališta. Vrtove. A tek subota ispred trga kod dvorane. Djeca\, psi\, bicikle\, lopte\, zvončari\, čitači novina i knjiga\, ispijači kave. Sve vrvi\, užurbano je. Druži se\, ćakula se i dijeli. Pravi mali grad u gradu. Urbani separe\, grupa susjeda i brojni partneri pozivaju na festival posvećen ovom posebnom riječkom kvartu. \nBogat program\nProgram festivala Pozdrav sa Zameta!\, zakazan za vikend 17. i 18. lipnja\, rasprostranjen je javnim prostorom cijelog susjedstva. Kroz dva dana koncerata\, kuhanja\, radionica za velike i male\, filmskih projekcija i vođenih šetnji\, sportskih aktivnosti\, ćakula\, akcija uređenja javnog prostora i brojna iznenađenja\, Zamet će oživjeti punim plućima.\nU cijelosti besplatan program odvija se kroz subotnje poslijepodne te nedjeljno jutro. Prijave nisu potrebne\, no svoj dolazak na pojedinu aktivnost možete najaviti e-mailom na udruga@urbanisepare.org. \nSubota – neka živi pjaca va Zamete!\nNa jedan dan\, Zametska pjaca neumorno će živjeti do kasno u noć. Dan na Zametu otkriva svoje čari već od 17 sati. Štandovi Tržnice Zamet oživjet će zvukom glazbe\, izložbama\, šarenim odjevnim predmetima\, ručno izrađenim rukotvorinama\, svježim i organskim povrćem\, mirisnim kruhom te brojnim iznenađenjima. Posjetitelje će dočekati svjež izgled tržnice\, oslikane novim muralom. U 17 sati započet će predavanje pod nazivom ‘Zametske štorije’\, kojim će nas provesti iskusni poznavatelj kvarta\, osamdesetosmogodišnji Tomislav Pilepić. Osim njega\, priče o Zametu upotpunit će Aitanga Drog i Maja Stepančić\, donoseći bogatstvo lokalnih priča i tradicija. Paralelno s predavanjem\, od 17 sati caffe bar Stari Zamet bit će domaćin turnira u briškuli gdje će se strastveni igrači okupiti i odmjeriti svoje vještine. U 18 sati\, uz podršku Društva arhitekata Rijeka\, započet će vođena šetnja Zametom. Otkrijte skrivene kutke ovog kvarta\, uživajte u povijesti koju nosi te aktivno kritizirajte javni prostor. Za posjetitelje je pripremljen i poseban gastronomski užitak – marenda! Okupite se na tržnici te od 18 sati zajedno pripremite i kušajte ukusne ljetne povrtne rolice. Uz zvuke gitare Elvisa Devčića i tamburaškog orkestra KUD-a Zametski koren\, atmosfera će biti još življa. S početkom u 19 sati\, ispred Centra Zamet\, poznati klaun Marko priprema pravu dječju zabavu koja će razveseliti najmlađe posjetitelje. Za 20 sati na tržnici je zakazan zabavan kviz o Zametu\, s osvježavajućim nagradama – svježim povrćem sa Zametske pjace. Testirajte svoje znanje i osvojite zdrave i ukusne nagrade. Kada noć padne\, od 21:30\, u suradnji s udrugom Filmaktiv i društvom Prostorož iz Ljubljane\, Zametska se pjaca pretvara u kino na otvorenom. Uživajte u čarobnom kratkometražnom filmu ‘U šumi’\, kojeg potpisuje riječka redateljica Sara Grgurić\, kao i u ukrajinskom filmu “Enter Through the Balcony”\, koji nas vodi u svijet šarenih\, zelenih i čudnovatih balkona diljem zemlje. \nAktivno nedeljno jutro\nNedjeljni program odvija se od 9 do 12 sati uokolo Zametske pećine\, u ulici Ludvetov breg. Dan će započeti akcijom uređenja zapuštenog nogometnog igrališta. Posjetitelji su pozvani brusiti i obojiti klupice\, obnoviti golove te oslikati zidić u suradnji s Društvom arhitekata Rijeka. Akciju će pratiti i piknik uz glazbu riječkog Radio Roža. Paralelno\, za 9 sati zakazana je šetnja vrtovima Zameta. Susjedi i biljni znalci prezentirat će zelene dragulje koje godinama marljivo održavaju. Od 10 do 12 sati u hladu uređenog igrališta odvijat će se aktivnosti za djecu\, uključujući izradu osvježavajućih voćnih ražnjića te čitanje dječjih priča pod vodstvom udruge Orehović. Tijekom jutra održat će se i press konferencija Mjesnog odbora Zamet koja će ukazati na važnost Zametske pećine\, nepoznate prirodne baštine našeg kraja. \nSatnica festivala Pozdrav sa Zameta! \nTržnica Zamet\nshorturl.at/muADZ \n17-18h I Predavanje: Zametske štorije\n17-18h I Turnir u briškuli (caffe bar Stari Zamet)\n18-19h I Vođena šetnja Zametom\n18-19h I Marenda: ljetne rolice\n18-19h I Glazba: Elvis Devčić na gitari\n19h I Klinci: Klaun Marko\n19-19:30h I Glazba: KUD Zametski koren\n20h I Kviz o Zametu uz povrtne nagrade\n21:30-22h I Kino: U šumi (17’)\, Enter Through the Balcony (26’) \n17-22h I Tržnica Zamet živi odjećom\, rukotvorinama\, organskim povrćem i svježim pekarskim proizvodima\, glazbom\, izložbama i brojnim iznenađenjima. \nLudvetov breg\, kod Zametske pećine\nshorturl.at/aKRTZ \n9-10h I Šetnja: Zametski vrtovi\n9-12h I Akcija: Uređenje igrališta\n9-12h I Uradi-sam piknik s glazbom Radio Rože\n10-12h I Klinci: voćni ražnjići i čitanje dječjih priča \n____________________\nOvo je drugi u nizu velikih kvartovskih festivala. Kroz ljeto nas očekuju:\n8.7. I Pozdrav s Mlake!\n26.8. I Pozdrav s Pećina!\n____________________\nU slučaju jake kiše program će se odgoditi.\n____________________\nPozdrav iz Rijeke! Financijski podržavaju Turistička zajednica grada Rijeke\, Grad Rijeka i Ministarstvo kulture i medija Republike Hrvatske. Cjelogodišnji program razvoja organizacije\, udruge Urbani separe\, podržavaju Zaklada “Kultura nova” i Nacionalna zaklada za razvoj civilnog društva.
URL:https://visitrijeka.hr/event/pozdrav-sa-zameta-veliki-kvartovski-festival/
LOCATION:Zamet\, Ul. Bože Vidasa\, Rijeka\, 51000
CATEGORIES:Sport (outdoor),Zabava
ATTACH;FMTTYPE=image/png:https://visitrijeka.hr/wp-content/uploads/2023/06/Pozdrav-sa-Zameta-COVER.png
END:VEVENT
END:VCALENDAR