BEGIN:VCALENDAR
VERSION:2.0
PRODID:-//Visit Rijeka - ECPv6.15.11//NONSGML v1.0//EN
CALSCALE:GREGORIAN
METHOD:PUBLISH
X-WR-CALNAME:Visit Rijeka
X-ORIGINAL-URL:https://visitrijeka.hr
X-WR-CALDESC:Događaji za Visit Rijeka
REFRESH-INTERVAL;VALUE=DURATION:PT1H
X-Robots-Tag:noindex
X-PUBLISHED-TTL:PT1H
BEGIN:VTIMEZONE
TZID:Europe/Zagreb
BEGIN:DAYLIGHT
TZOFFSETFROM:+0100
TZOFFSETTO:+0200
TZNAME:CEST
DTSTART:20230326T010000
END:DAYLIGHT
BEGIN:STANDARD
TZOFFSETFROM:+0200
TZOFFSETTO:+0100
TZNAME:CET
DTSTART:20231029T010000
END:STANDARD
BEGIN:DAYLIGHT
TZOFFSETFROM:+0100
TZOFFSETTO:+0200
TZNAME:CEST
DTSTART:20240331T010000
END:DAYLIGHT
BEGIN:STANDARD
TZOFFSETFROM:+0200
TZOFFSETTO:+0100
TZNAME:CET
DTSTART:20241027T010000
END:STANDARD
BEGIN:DAYLIGHT
TZOFFSETFROM:+0100
TZOFFSETTO:+0200
TZNAME:CEST
DTSTART:20250330T010000
END:DAYLIGHT
BEGIN:STANDARD
TZOFFSETFROM:+0200
TZOFFSETTO:+0100
TZNAME:CET
DTSTART:20251026T010000
END:STANDARD
END:VTIMEZONE
BEGIN:VEVENT
DTSTART;TZID=Europe/Zagreb:20241215T163000
DTEND;TZID=Europe/Zagreb:20241215T200000
DTSTAMP:20260422T140541
CREATED:20241213T092429Z
LAST-MODIFIED:20241213T093230Z
UID:10003273-1734280200-1734292800@visitrijeka.hr
SUMMARY:Rođendan Nikole Hosta u Velvet Art Caffeu!
DESCRIPTION:Pozivamo vas da prisustvujete proslavi rođendana poznatog botaničara Nikole Hosta\, koja će se održati 15. prosinca 2024. godine u Velvet Art Caffeu. Ovaj događaj okuplja ljubitelje prirode\, botanike\, povijesti\, finih rakija\, vina i toplih koktela\, kao i sve one koji žele uživati u ugodnoj atmosferi u botaničkom parku Nikole Hosta. \nProslava će biti prilika za druženje\, razmjenu iskustava te obogaćivanje znanja o botaničkoj baštini i raznim drugim temama vezanim uz gradske vrtove. Pozivamo vas da se pridružite ovom posebnom događaju i proslavite rođendan jednog od najistaknutijih svjetskih stručnjaka u području botanike.
URL:https://visitrijeka.hr/event/71054/
LOCATION:Velvet Art Caffe\, Park Nikole Hosta
CATEGORIES:Advent
ATTACH;FMTTYPE=image/jpeg:https://visitrijeka.hr/wp-content/uploads/2024/12/rodendan-nikole-hosta.jpeg
END:VEVENT
END:VCALENDAR