BEGIN:VCALENDAR
VERSION:2.0
PRODID:-//Visit Rijeka - ECPv6.15.11//NONSGML v1.0//EN
CALSCALE:GREGORIAN
METHOD:PUBLISH
X-WR-CALNAME:Visit Rijeka
X-ORIGINAL-URL:https://visitrijeka.hr/it/
X-WR-CALDESC:Eventi per Visit Rijeka
REFRESH-INTERVAL;VALUE=DURATION:PT1H
X-Robots-Tag:noindex
X-PUBLISHED-TTL:PT1H
BEGIN:VTIMEZONE
TZID:Europe/Zagreb
BEGIN:DAYLIGHT
TZOFFSETFROM:+0100
TZOFFSETTO:+0200
TZNAME:CEST
DTSTART:20250330T010000
END:DAYLIGHT
BEGIN:STANDARD
TZOFFSETFROM:+0200
TZOFFSETTO:+0100
TZNAME:CET
DTSTART:20251026T010000
END:STANDARD
BEGIN:DAYLIGHT
TZOFFSETFROM:+0100
TZOFFSETTO:+0200
TZNAME:CEST
DTSTART:20260329T010000
END:DAYLIGHT
BEGIN:STANDARD
TZOFFSETFROM:+0200
TZOFFSETTO:+0100
TZNAME:CET
DTSTART:20261025T010000
END:STANDARD
BEGIN:DAYLIGHT
TZOFFSETFROM:+0100
TZOFFSETTO:+0200
TZNAME:CEST
DTSTART:20270328T010000
END:DAYLIGHT
BEGIN:STANDARD
TZOFFSETFROM:+0200
TZOFFSETTO:+0100
TZNAME:CET
DTSTART:20271031T010000
END:STANDARD
END:VTIMEZONE
BEGIN:VEVENT
DTSTART;TZID=Europe/Zagreb:20260121T000000
DTEND;TZID=Europe/Zagreb:20260211T000000
DTSTAMP:20260424T193153
CREATED:20241122T115315Z
LAST-MODIFIED:20260107T130225Z
UID:10003649-1768953600-1770768000@visitrijeka.hr
SUMMARY:Giornate del sorriso
DESCRIPTION:Programma: \n21.01.\, alle 20:00\, Testosteron\, la produzione Exit & Ludens Teatar & Kulturni centar Osijek \n04.02.\, alle 20:00\, Pračovjek\, la produzione Zakon Teatra e Theatre Mogula \n11.02.\, alle 20:00\, Kavijar od praziluka\, la produzione KUUM da Belgrado \nIl programma viene realizzato in collaborazione con l’impresa “Vrlo dobro”. \nBiglietti in prevendita su www.mojekarte.hr.
URL:https://visitrijeka.hr/it/event/pljuska-dani-smijeha-u-karnevalu-2025/
LOCATION:Casa della cultura croata di Sušak\, Strossmayerova 1\, Rijeka\, 51000\, Croatia (Local Name: Hrvatska)
CATEGORIES:Carnevale,Divertimento
ATTACH;FMTTYPE=image/jpeg:https://visitrijeka.hr/wp-content/uploads/2024/11/testosteron.jpg
END:VEVENT
BEGIN:VEVENT
DTSTART;TZID=Europe/Zagreb:20260124T200000
DTEND;TZID=Europe/Zagreb:20260124T200000
DTSTAMP:20260424T193153
CREATED:20241224T100943Z
LAST-MODIFIED:20251229T103109Z
UID:10003657-1769284800-1769284800@visitrijeka.hr
SUMMARY:14. La Notte delle crinoline sul botel Marina
DESCRIPTION:La Notte delle crinoline a bordo della nave Marina è un sontuoso ballo in maschera che rievoca lo spirito dei balli carnevaleschi storici e l’eleganza dei tempi passati. Nell’ambiente unico della nave Marina\, tra musica\, danza e costumi ispirati ai balli in crinolina\, gli ospiti vivono un’atmosfera carnevalesca davvero speciale. \nLa manifestazione ha anche un carattere umanitario: i fondi raccolti vengono donati alla Casa Rifugio dell’Associazione per la tutela della famiglia di Fiume. L’evento riunisce partecipanti provenienti da diversi Paesi\, tra cui associazioni e organizzatori carnevaleschi\, contribuendo alla salvaguardia della ricca tradizione carnevalesca di Fiume. \nIl programma viene realizzato in collaborazione con l’Associazione carnevalesca “Veseli oldtimeri”.
URL:https://visitrijeka.hr/it/event/noc-krinolina-na-botelu-marina/
LOCATION:Botel Marina\, Adamicev gat\, Rijeka\, Primorsko-goranska\, 51000\, Croatia (Local Name: Hrvatska)
CATEGORIES:Carnevale
ATTACH;FMTTYPE=image/jpeg:https://visitrijeka.hr/wp-content/uploads/2024/12/balkrinolina5-1.jpg
END:VEVENT
END:VCALENDAR