BEGIN:VCALENDAR
VERSION:2.0
PRODID:-//Visit Rijeka - ECPv6.15.11//NONSGML v1.0//EN
CALSCALE:GREGORIAN
METHOD:PUBLISH
X-ORIGINAL-URL:https://visitrijeka.hr/it/
X-WR-CALDESC:Eventi per Visit Rijeka
REFRESH-INTERVAL;VALUE=DURATION:PT1H
X-Robots-Tag:noindex
X-PUBLISHED-TTL:PT1H
BEGIN:VTIMEZONE
TZID:Europe/Zagreb
BEGIN:DAYLIGHT
TZOFFSETFROM:+0100
TZOFFSETTO:+0200
TZNAME:CEST
DTSTART:20230326T010000
END:DAYLIGHT
BEGIN:STANDARD
TZOFFSETFROM:+0200
TZOFFSETTO:+0100
TZNAME:CET
DTSTART:20231029T010000
END:STANDARD
BEGIN:DAYLIGHT
TZOFFSETFROM:+0100
TZOFFSETTO:+0200
TZNAME:CEST
DTSTART:20240331T010000
END:DAYLIGHT
BEGIN:STANDARD
TZOFFSETFROM:+0200
TZOFFSETTO:+0100
TZNAME:CET
DTSTART:20241027T010000
END:STANDARD
BEGIN:DAYLIGHT
TZOFFSETFROM:+0100
TZOFFSETTO:+0200
TZNAME:CEST
DTSTART:20250330T010000
END:DAYLIGHT
BEGIN:STANDARD
TZOFFSETFROM:+0200
TZOFFSETTO:+0100
TZNAME:CET
DTSTART:20251026T010000
END:STANDARD
END:VTIMEZONE
BEGIN:VEVENT
DTSTART;TZID=Europe/Zagreb:20240613T093000
DTEND;TZID=Europe/Zagreb:20240614T150000
DTSTAMP:20260424T032309
CREATED:20240521T100044Z
LAST-MODIFIED:20240521T100316Z
UID:10001655-1718271000-1718377200@visitrijeka.hr
SUMMARY:KultuRi
DESCRIPTION:Tourism Valorisation of Cultural\, Historical and Sacred Heritage Conference\, will be held in Rijeka\, Palača šećera / Sugar Palace on June 13th and 14th 2024
URL:https://visitrijeka.hr/it/event/kulturi/
LOCATION:Muzej grada Rijeke\, Palača šećera\, Krešimirova ul. 28\, Rijeka\, 51000\, Croatia (Local Name: Hrvatska)
CATEGORIES:Congressi e fiere,Cultura e arte
ATTACH;FMTTYPE=image/jpeg:https://visitrijeka.hr/wp-content/uploads/2024/05/KultuRi_LUX-1.jpg
END:VEVENT
BEGIN:VEVENT
DTSTART;TZID=Europe/Zagreb:20240620T160000
DTEND;TZID=Europe/Zagreb:20240621T220000
DTSTAMP:20260424T032309
CREATED:20240528T123341Z
LAST-MODIFIED:20240528T123608Z
UID:10001788-1718899200-1719007200@visitrijeka.hr
SUMMARY:Summer student art fair
DESCRIPTION:Summer fair edition of the APURI student and alumni artworks. A chance to catch some art and bring it home!
URL:https://visitrijeka.hr/it/event/ljetni-sajam-studentskih-radova/
LOCATION:Galerija SKC\, Kružna ulica 6\, Rijeka\, 51000\, Croatia (Local Name: Hrvatska)
CATEGORIES:Congressi e fiere,Cultura e arte
ATTACH;FMTTYPE=image/jpeg:https://visitrijeka.hr/wp-content/uploads/2024/05/Sajam-je-nastavak-projekta-Rijeka-umjetnosti-iz-2020.jpg
END:VEVENT
END:VCALENDAR