BEGIN:VCALENDAR
VERSION:2.0
PRODID:-//Visit Rijeka - ECPv6.15.11//NONSGML v1.0//EN
CALSCALE:GREGORIAN
METHOD:PUBLISH
X-WR-CALNAME:Visit Rijeka
X-ORIGINAL-URL:https://visitrijeka.hr/en/
X-WR-CALDESC:Events for Visit Rijeka
REFRESH-INTERVAL;VALUE=DURATION:PT1H
X-Robots-Tag:noindex
X-PUBLISHED-TTL:PT1H
BEGIN:VTIMEZONE
TZID:Europe/Zagreb
BEGIN:DAYLIGHT
TZOFFSETFROM:+0100
TZOFFSETTO:+0200
TZNAME:CEST
DTSTART:20240331T010000
END:DAYLIGHT
BEGIN:STANDARD
TZOFFSETFROM:+0200
TZOFFSETTO:+0100
TZNAME:CET
DTSTART:20241027T010000
END:STANDARD
BEGIN:DAYLIGHT
TZOFFSETFROM:+0100
TZOFFSETTO:+0200
TZNAME:CEST
DTSTART:20250330T010000
END:DAYLIGHT
BEGIN:STANDARD
TZOFFSETFROM:+0200
TZOFFSETTO:+0100
TZNAME:CET
DTSTART:20251026T010000
END:STANDARD
BEGIN:DAYLIGHT
TZOFFSETFROM:+0100
TZOFFSETTO:+0200
TZNAME:CEST
DTSTART:20260329T010000
END:DAYLIGHT
BEGIN:STANDARD
TZOFFSETFROM:+0200
TZOFFSETTO:+0100
TZNAME:CET
DTSTART:20261025T010000
END:STANDARD
BEGIN:DAYLIGHT
TZOFFSETFROM:+0100
TZOFFSETTO:+0200
TZNAME:CEST
DTSTART:20270328T010000
END:DAYLIGHT
BEGIN:STANDARD
TZOFFSETFROM:+0200
TZOFFSETTO:+0100
TZNAME:CET
DTSTART:20271031T010000
END:STANDARD
END:VTIMEZONE
BEGIN:VEVENT
DTSTART;TZID=Europe/Zagreb:20251103T000000
DTEND;TZID=Europe/Zagreb:20260615T010000
DTSTAMP:20260422T160030
CREATED:20251027T124126Z
LAST-MODIFIED:20260223T143240Z
UID:10005591-1762128000-1781485200@visitrijeka.hr
SUMMARY:Klub 24
DESCRIPTION:Klub 24\nZa one koji ne čekaju pozivnicu \nKada? 3. 11. 2025. | Koliko sati? 9:00\nGdje? Dnevni boravak\nTko? Mladi_e ljubitelji_ce umjetnosti od 18 do 30 godina \nŠto je Klub 24? \nKlub 24 je suradnički projekt MMSU-a i SKC-a\, zamišljen kao privremeni kolektiv za studente koji žele stvarati i reagirati – kroz umjetnost\, ideje i akciju.\nKroz radionice koje će se odvijati dvaput mjesečno\, studenti i studentice postaju autori\, kustosi\, producenti\, novinari\, publika – i sve između. \nŠto te čeka:\n• Antibirokratski susreti i razmjena ideja\n• Kolektivno pisanje i čitanje bez pogrešnih pitanja\n• Umjetnički rad(ovi) u nastajanju\n• Prostor za dijeljenje\, suradnju i spontane akcije\n• Završna pop-up izložba na kraju radioničkog ciklusa \nTema: Umjetnost – solidarnost – društveni angažman \nUlaz slobodan.
URL:https://visitrijeka.hr/en/event/klub-24/
LOCATION:Muzej moderne i suvremene umjetnosti\, Muzej moderne i suvremene umjetnosti
CATEGORIES:Entertainment
ATTACH;FMTTYPE=image/png:https://visitrijeka.hr/wp-content/uploads/2025/10/fotka675890.png
END:VEVENT
BEGIN:VEVENT
DTSTART;VALUE=DATE:20260228
DTEND;VALUE=DATE:20260302
DTSTAMP:20260422T160030
CREATED:20260210T083637Z
LAST-MODIFIED:20260227T131440Z
UID:10005609-1772236800-1772409599@visitrijeka.hr
SUMMARY:WCF International Cats Exhibition
DESCRIPTION:
URL:https://visitrijeka.hr/en/event/wcf-medunarodna-izlozba-macaka/
LOCATION:Atletska dvorana Kantrida\, Istarska ulica\, Rijeka\, 51000\, Croatia (Local Name: Hrvatska)
CATEGORIES:Other
ATTACH;FMTTYPE=image/jpeg:https://visitrijeka.hr/wp-content/uploads/2026/02/Atletska-dvorana-Kantrida.jpg
END:VEVENT
BEGIN:VEVENT
DTSTART;TZID=Europe/Zagreb:20260228T200000
DTEND;TZID=Europe/Zagreb:20260301T020000
DTSTAMP:20260422T160030
CREATED:20260224T140506Z
LAST-MODIFIED:20260224T140810Z
UID:10005595-1772308800-1772330400@visitrijeka.hr
SUMMARY:„Who killed the Disco?“ - listening party and drag show
DESCRIPTION:Tickets for the drag show and the listening party cost 7 €.
URL:https://visitrijeka.hr/en/event/tko-je-ubio-disko-slusaona-i-drag-show/
LOCATION:Klub Palach\, Kružna 8\, Rijeka\, 51000\, Croatia (Local Name: Hrvatska)
CATEGORIES:Entertainment
ATTACH;FMTTYPE=image/jpeg:https://visitrijeka.hr/wp-content/uploads/2026/02/d8a2a3a5-36c8-45c0-97c9-41449a086a00.jpg
END:VEVENT
BEGIN:VEVENT
DTSTART;VALUE=DATE:20260305
DTEND;VALUE=DATE:20260309
DTSTAMP:20260422T160030
CREATED:20260217T095231Z
LAST-MODIFIED:20260225T134107Z
UID:10005600-1772668800-1773014399@visitrijeka.hr
SUMMARY:Women’s Weekend
DESCRIPTION:To what extent are women equal in today’s society\, and what can be done to improve their standing? This is the central theme of Women’s Weekend\, a festival aimed at promoting gender equality that brings together leading figures from the regional and global stages. \nThe fourth edition of Women’s Weekend will occur from March 5 to 8\, 2026\, at the Museum of Modern and Contemporary Art in Rijeka’s Art Quarter. \nThis festival provides a unique opportunity for women from various fields to come together\, share experiences\, and offer mutual inspiration and support. Over three days\, attendees will engage in inspiring lectures\, interactive workshops\, and panel discussions\, all designed to create a space for learning and personal growth. \nDistinguished speakers and panelists will address a range of pressing topics\, including women in business\, financial independence\, the evolution of women’s health\, the future of the workplace\, and the balance of multiple roles such as motherhood\, career\, and personal time. \nOn International Women’s Day\, the Museum of Modern and Contemporary Art and the Art Quarter will transform into a space where everyone feels empowered and supported—a place to discover new ideas\, forge new friendships and collaborations\, and draw inspiration from the extraordinary stories of women.
URL:https://visitrijeka.hr/en/event/womens-weekend-3/
LOCATION:Muzej moderne i suvremene umjetnosti-MMSU\, Krešimirova ulica 26c\, Rijeka\, 51000\, Croatia (Local Name: Hrvatska)
CATEGORIES:Congresses and Fairs,Other
ATTACH;FMTTYPE=image/jpeg:https://visitrijeka.hr/wp-content/uploads/2026/02/Woman-s-weekend-2.jpg
END:VEVENT
BEGIN:VEVENT
DTSTART;TZID=Europe/Zagreb:20260306T200000
DTEND;TZID=Europe/Zagreb:20260306T200000
DTSTAMP:20260422T160030
CREATED:20251116T220000Z
LAST-MODIFIED:20260225T123915Z
UID:10005599-1772827200-1772827200@visitrijeka.hr
SUMMARY:Zabranjeno pušenje unplugged - concert
DESCRIPTION:
URL:https://visitrijeka.hr/en/event/zabranjeno-pusenje-kao-neustekani/
LOCATION:Strossmayerova 1\, Strossmayerova 1
CATEGORIES:Entertainment
ATTACH;FMTTYPE=image/jpeg:https://visitrijeka.hr/wp-content/uploads/2025/11/neustekani-1.jpg
END:VEVENT
BEGIN:VEVENT
DTSTART;TZID=Europe/Zagreb:20260307T200000
DTEND;TZID=Europe/Zagreb:20260307T200000
DTSTAMP:20260422T160030
CREATED:20251218T083532Z
LAST-MODIFIED:20260225T123142Z
UID:10005598-1772913600-1772913600@visitrijeka.hr
SUMMARY:Josipa Lisac - concert
DESCRIPTION:
URL:https://visitrijeka.hr/en/event/josipa-lisac/
LOCATION:Croatian House of Culture Sušak\, Strossmayerova 1\, Rijeka\, 51000\, Croatia (Local Name: Hrvatska)
CATEGORIES:Culture & Art
ATTACH;FMTTYPE=image/jpeg:https://visitrijeka.hr/wp-content/uploads/2025/12/josipa-1.jpg
END:VEVENT
BEGIN:VEVENT
DTSTART;TZID=Europe/Zagreb:20260307T210000
DTEND;TZID=Europe/Zagreb:20260307T230000
DTSTAMP:20260422T160030
CREATED:20260303T084443Z
LAST-MODIFIED:20260304T085932Z
UID:10005625-1772917200-1772924400@visitrijeka.hr
SUMMARY:International Women's Day in Palach: Repetitor - concert
DESCRIPTION:
URL:https://visitrijeka.hr/en/event/dan-zena-u-palachu-repetitor-i-noc-zenskih-glazbenih-legendi-koncert/
LOCATION:Klub Palach\, Kružna 8\, Rijeka\, 51000\, Croatia (Local Name: Hrvatska)
CATEGORIES:Culture & Art,Other
ATTACH;FMTTYPE=image/jpeg:https://visitrijeka.hr/wp-content/uploads/2026/03/Repetitor.jpg
END:VEVENT
BEGIN:VEVENT
DTSTART;VALUE=DATE:20260313
DTEND;VALUE=DATE:20260315
DTSTAMP:20260422T160030
CREATED:20260217T115330Z
LAST-MODIFIED:20260225T121530Z
UID:10005597-1773360000-1773532799@visitrijeka.hr
SUMMARY:WineRi international eno-gastro festival
DESCRIPTION:
URL:https://visitrijeka.hr/en/event/wineri-medunarodni-eno-gastro-festival/
LOCATION:Exportdrvo\, Grobnička\, Riva\, Rijeka\, 51 000\, Croatia (Local Name: Hrvatska)
CATEGORIES:Congresses and Fairs,Gastro,Other
ATTACH;FMTTYPE=image/jpeg:https://visitrijeka.hr/wp-content/uploads/2026/02/WineRi.jpg
END:VEVENT
BEGIN:VEVENT
DTSTART;TZID=Europe/Zagreb:20260322T200000
DTEND;TZID=Europe/Zagreb:20260322T200000
DTSTAMP:20260422T160030
CREATED:20251217T120219Z
LAST-MODIFIED:20260225T120416Z
UID:10005596-1774209600-1774209600@visitrijeka.hr
SUMMARY:K-POP FOREVER!
DESCRIPTION:  \nEarly bird tickets on sale on Eventim.hr
URL:https://visitrijeka.hr/en/event/k-pop-forever/
LOCATION:Centar Zamet\, Trg Riječkih olimpijaca 1\, Rijeka\, 51000\, Croatia (Local Name: Hrvatska)
CATEGORIES:Entertainment,Other
ATTACH;FMTTYPE=image/jpeg:https://visitrijeka.hr/wp-content/uploads/2025/12/K-Pop-Forever.jpg
END:VEVENT
BEGIN:VEVENT
DTSTART;VALUE=DATE:20260326
DTEND;VALUE=DATE:20260329
DTSTAMP:20260422T160030
CREATED:20260325T090020Z
LAST-MODIFIED:20260325T090941Z
UID:10005664-1774483200-1774742399@visitrijeka.hr
SUMMARY:PILC 2026 Conference – PAR International Leadership Conference
DESCRIPTION:PILC 2026 (PAR International Leadership Conference) is an international scientific and professional conference that brings together academia and business professionals to exchange knowledge\, experiences\, and best practices in leadership\, management\, technology\, and branding. This year’s theme\, “Human-Centric Leadership: Talent\, Technology\, and Brand Power\,” focuses on modern leadership approaches in the context of digital transformation and human capital development. The program includes panel discussions\, expert lectures\, and presentations of scientific and professional papers by domestic and international participants\, with a strong emphasis on bridging academia and business.
URL:https://visitrijeka.hr/en/event/konferencija-pilc-2026-par-international-leadership-conference/
LOCATION:Hilton Rijeka Costabella Beach Resort&Spa\, Opatijska ulica 9\, Rijeka\, 51000\, Croatia (Local Name: Hrvatska)
CATEGORIES:Congresses and Fairs
ATTACH;FMTTYPE=image/png:https://visitrijeka.hr/wp-content/uploads/2026/03/PILC-scaled.png
END:VEVENT
END:VCALENDAR