BEGIN:VCALENDAR
VERSION:2.0
PRODID:-//Visit Rijeka - ECPv6.15.11//NONSGML v1.0//EN
CALSCALE:GREGORIAN
METHOD:PUBLISH
X-WR-CALNAME:Visit Rijeka
X-ORIGINAL-URL:https://visitrijeka.hr
X-WR-CALDESC:Događaji za Visit Rijeka
REFRESH-INTERVAL;VALUE=DURATION:PT1H
X-Robots-Tag:noindex
X-PUBLISHED-TTL:PT1H
BEGIN:VTIMEZONE
TZID:Europe/Zagreb
BEGIN:DAYLIGHT
TZOFFSETFROM:+0100
TZOFFSETTO:+0200
TZNAME:CEST
DTSTART:20250330T010000
END:DAYLIGHT
BEGIN:STANDARD
TZOFFSETFROM:+0200
TZOFFSETTO:+0100
TZNAME:CET
DTSTART:20251026T010000
END:STANDARD
BEGIN:DAYLIGHT
TZOFFSETFROM:+0100
TZOFFSETTO:+0200
TZNAME:CEST
DTSTART:20260329T010000
END:DAYLIGHT
BEGIN:STANDARD
TZOFFSETFROM:+0200
TZOFFSETTO:+0100
TZNAME:CET
DTSTART:20261025T010000
END:STANDARD
BEGIN:DAYLIGHT
TZOFFSETFROM:+0100
TZOFFSETTO:+0200
TZNAME:CEST
DTSTART:20270328T010000
END:DAYLIGHT
BEGIN:STANDARD
TZOFFSETFROM:+0200
TZOFFSETTO:+0100
TZNAME:CET
DTSTART:20271031T010000
END:STANDARD
END:VTIMEZONE
BEGIN:VEVENT
DTSTART;TZID=Europe/Zagreb:20260423T190000
DTEND;TZID=Europe/Zagreb:20260514T200000
DTSTAMP:20260422T192334
CREATED:20251219T090754Z
LAST-MODIFIED:20251219T090754Z
UID:10005409-1776970800-1778788800@visitrijeka.hr
SUMMARY:MOJE\, TVOJE\, NAŠE: 'Mjesečarenje'\, grupna izložba i konferencija
DESCRIPTION:Otvorenje izložbe: četvrtak\, 23. travnja u 19 sati\, konferencija: 24. i 25. travnja. Manifestacija Moje\, tvoje\, naše u svom 21. izdanju fokusira se na našu stvarnost koju u pojedinim aspektima možemo opisati kao ‘budno sanjanje’. Naime\, trenutna situacija naše stvarnosti odražava mnoga obilježja sna\, u smislu neprekidnog tijeka nevjerojatnih slika i asocijacija\, bilo da se radi o deepfakeovima\, memeovima\, dokumentarcima ili fragmentima post-internet vizualne kulture. Ova će se tema istraživati kroz radove na grupnoj izložbi The World is Sleepwalking talijanske kustosice Danijele Cotimbo\, koja se u istraživanjima bavi problemima upotrebe novih tehnologija\, te odnosom suvremene umjetnosti i umjetne inteligencije. Među planiranim umjetnicima je i Zach Blas\, cijenjeni suvremeni umjetnik\, filmski autor i pisac čija praksa istražuje filozofije i imaginarije koji prožimaju računalne tehnologije i industrije koje ih oblikuju.
URL:https://visitrijeka.hr/event/moje-tvoje-nase-mjesecarenje-grupna-izlozba-i-konferencija/
LOCATION:Filodrammatica\, velika dvorana\, Korzo 28/1\, Rijeka\, 51000\, Croatia (Local Name: Hrvatska)
CATEGORIES:Kongresi i sajmovi,Kultura i umjetnost,Ostalo
ATTACH;FMTTYPE=image/webp:https://visitrijeka.hr/wp-content/uploads/2025/12/4-MTN-Mjesecarenje.webp
END:VEVENT
END:VCALENDAR