BEGIN:VCALENDAR
VERSION:2.0
PRODID:-//Visit Rijeka - ECPv6.15.11//NONSGML v1.0//EN
CALSCALE:GREGORIAN
METHOD:PUBLISH
X-ORIGINAL-URL:https://visitrijeka.hr
X-WR-CALDESC:Događaji za Visit Rijeka
REFRESH-INTERVAL;VALUE=DURATION:PT1H
X-Robots-Tag:noindex
X-PUBLISHED-TTL:PT1H
BEGIN:VTIMEZONE
TZID:Europe/Zagreb
BEGIN:DAYLIGHT
TZOFFSETFROM:+0100
TZOFFSETTO:+0200
TZNAME:CEST
DTSTART:20250330T010000
END:DAYLIGHT
BEGIN:STANDARD
TZOFFSETFROM:+0200
TZOFFSETTO:+0100
TZNAME:CET
DTSTART:20251026T010000
END:STANDARD
BEGIN:DAYLIGHT
TZOFFSETFROM:+0100
TZOFFSETTO:+0200
TZNAME:CEST
DTSTART:20260329T010000
END:DAYLIGHT
BEGIN:STANDARD
TZOFFSETFROM:+0200
TZOFFSETTO:+0100
TZNAME:CET
DTSTART:20261025T010000
END:STANDARD
BEGIN:DAYLIGHT
TZOFFSETFROM:+0100
TZOFFSETTO:+0200
TZNAME:CEST
DTSTART:20270328T010000
END:DAYLIGHT
BEGIN:STANDARD
TZOFFSETFROM:+0200
TZOFFSETTO:+0100
TZNAME:CET
DTSTART:20271031T010000
END:STANDARD
END:VTIMEZONE
BEGIN:VEVENT
DTSTART;VALUE=DATE:20260222
DTEND;VALUE=DATE:20260223
DTSTAMP:20260422T205530
CREATED:20260211T093506Z
LAST-MODIFIED:20260211T133657Z
UID:10005567-1771718400-1771804799@visitrijeka.hr
SUMMARY:Frizerski masterclass "Dimension Blonde Experience"
DESCRIPTION:Po prvi put u Rijeci gostuje jedan od najutjecajnijih europskih hair artista današnjice – Javier Vila (Španjolska) – edukator i ambasador brenda. \nOva ekskluzivna edukacija donosi vrhunsko premium iskustvo posvećeno modernoj luksuznoj frizerskoj estetici\, preciznom radu i kreativnoj slobodi\, s naglaskom na savršeno izgrađene\, višedimenzionalne tonove. \nJavier Vila poznat je po spoju:\n• čiste i precizne forme\n• sofisticiranih blonde nijansi\n• editorial estetike\n• komercijalne nosivosti u salonu \nOvo nije klasična edukacija – ovo je iskustvo za frizere koji žele više znanja\, više inspiracije i jači autorski potpis. \nSve se odvija u luksuznom ambijentu Hilton Rijeka Costabella Beach Resorta\, uz profesionalne modele\, osiguran prijevod\, vrhunsku produkciju i networking s kolegama iz regije. \n🔔 Edukacija je otvorena za sve frizere\, neovisno o brendu s kojim rade.\n🎟 Broj mjesta je ograničen.\n🏨 Za sudionike je osiguran promo kod za smještaj – popust u Hiltonu. \nPrijave:\n– putem DM-a organizatoru (zgrohg@gmail.com)\n– ili kupnjom ulaznica na mojekarte.hr
URL:https://visitrijeka.hr/event/frizerski-masterclass-dimension-blonde-experience/
LOCATION:Hilton Rijeka Costabella Beach Resort&Spa\, Opatijska ulica 9\, Rijeka\, 51000\, Croatia (Local Name: Hrvatska)
CATEGORIES:Kongresi i sajmovi,Ostalo
ATTACH;FMTTYPE=image/jpeg:https://visitrijeka.hr/wp-content/uploads/2026/02/Vila-1.jpg
END:VEVENT
END:VCALENDAR